BEGIN:VCALENDAR
VERSION:2.0
PRODID:-//wp-events-plugin.com//7.2.3.1//EN
BEGIN:VEVENT
UID:290@saintandredecorcy.fr
DTSTART;TZID=Europe/Paris:20231028T190000
DTEND;TZID=Europe/Paris:20231028T190000
DTSTAMP:20230914T172838Z
URL:https://saintandredecorcy.fr/evenements/%f0%9f%8e%83-classe-en-4-soire
 e-happy-halloween/
SUMMARY:&#x1f383\; Classe en 4 : soirée Happy Halloween
DESCRIPTION:Les inscriptions pour la soirée Happy Halloween organisée par
  la Classe en 4 le 28/10 sont ouvertes.\n\nRendez-vous sur Hello Asso ou p
 ar mail : classeen4saco@gmail.com
ATTACH;FMTTYPE=image/jpeg:https://saintandredecorcy.fr/WordPress3/wp-conte
 nt/uploads/2023/09/Halloween.jpg
LOCATION:Salle Polyvalente\, 329 Allée des Sports\, Saint-André-de-Corcy\
 , Auvergne-Rhône-Alpes\, 01390\, Ain\, France
GEO:45.92811;4.958096
X-APPLE-STRUCTURED-LOCATION;VALUE=URI;X-ADDRESS=329 Allée des Sports\, Sai
 nt-André-de-Corcy\, Auvergne-Rhône-Alpes\, 01390\, Ain\, France;X-APPLE-
 RADIUS=100;X-TITLE=Salle Polyvalente:geo:45.92811,4.958096
END:VEVENT
BEGIN:VTIMEZONE
TZID:Europe/Paris
X-LIC-LOCATION:Europe/Paris
BEGIN:DAYLIGHT
DTSTART:20230326T030000
TZOFFSETFROM:+0100
TZOFFSETTO:+0200
TZNAME:CEST
END:DAYLIGHT
END:VTIMEZONE
END:VCALENDAR