BEGIN:VCALENDAR
VERSION:2.0
PRODID:-//wp-events-plugin.com//7.2.3.1//EN
BEGIN:VEVENT
UID:136@saintandredecorcy.fr
DTSTART;TZID=Europe/Paris:20220612T080000
DTEND;TZID=Europe/Paris:20220612T130000
DTSTAMP:20220607T054441Z
URL:https://saintandredecorcy.fr/evenements/%f0%9f%8d%92-marche-animation-
 cerises-concombres/
SUMMARY:&#x1f352\; Marché : animation cerises-concombres
DESCRIPTION:
LOCATION:Place Pierre Bernard\, Place Pierre Bernard\, Saint-André-de-Corc
 y\, Auvergne-Rhône-Alpes\, 01390\, Ain\, France
GEO:45.92784;4.953914
X-APPLE-STRUCTURED-LOCATION;VALUE=URI;X-ADDRESS=Place Pierre Bernard\, Sain
 t-André-de-Corcy\, Auvergne-Rhône-Alpes\, 01390\, Ain\, France;X-APPLE-R
 ADIUS=100;X-TITLE=Place Pierre Bernard:geo:45.92784,4.953914
END:VEVENT
BEGIN:VTIMEZONE
TZID:Europe/Paris
X-LIC-LOCATION:Europe/Paris
BEGIN:DAYLIGHT
DTSTART:20220327T030000
TZOFFSETFROM:+0100
TZOFFSETTO:+0200
TZNAME:CEST
END:DAYLIGHT
END:VTIMEZONE
END:VCALENDAR