BEGIN:VCALENDAR
VERSION:2.0
PRODID:-//wp-events-plugin.com//7.2.3.1//EN
BEGIN:VEVENT
UID:483@saintandredecorcy.fr
DTSTART;TZID=Europe/Paris:20241111T110000
DTEND;TZID=Europe/Paris:20241111T120000
DTSTAMP:20241108T182439Z
URL:https://saintandredecorcy.fr/evenements/%f0%9f%87%ab%f0%9f%87%b7-cerem
 onie-du-11-novembre/
SUMMARY:🇫🇷 Cérémonie du 11 novembre
DESCRIPTION:Commémoration de la signature de l'armistice de 1918\nUn verre
  de l'amitié sera partagé à la mairie à l'issue de la cérémonie\n&nb
 sp\;
ATTACH;FMTTYPE=image/jpeg:https://saintandredecorcy.fr/WordPress3/wp-conte
 nt/uploads/2022/11/Monument.jpg
LOCATION:Monument aux morts\, Square Claudius Bardet\, Saint-André-de-Corc
 y\, Région Rhône-Alpes\, 01390\, Ain\, France
GEO:45.928016;4.953499
X-APPLE-STRUCTURED-LOCATION;VALUE=URI;X-ADDRESS=Square Claudius Bardet\, Sa
 int-André-de-Corcy\, Région Rhône-Alpes\, 01390\, Ain\, France;X-APPLE-
 RADIUS=100;X-TITLE=Monument aux morts:geo:45.928016,4.953499
END:VEVENT
BEGIN:VTIMEZONE
TZID:Europe/Paris
X-LIC-LOCATION:Europe/Paris
BEGIN:STANDARD
DTSTART:20241027T020000
TZOFFSETFROM:+0200
TZOFFSETTO:+0100
TZNAME:CET
END:STANDARD
END:VTIMEZONE
END:VCALENDAR